BEGIN:VCALENDAR
VERSION:2.0
CALSCALE:GREGORIAN
PRODID:-//Diputació de Barcelona//DibaCMS//EN
BEGIN:VEVENT
UID:22684
DTSTAMP:20260424T074954
DTSTART:20100115T190000
DTEND:20100115T000000
SUMMARY:Xerrada: Contrabandistes de la llibertat
LOCATION:
METHOD:PUBLISH
X-WR-CALNAME:e-seu@ajpiera.cat
X-WR-TIMEZONE:Europe/Madrid
DESCRIPTION:Xerrada: Contrabandistes de la llibertat
URI:https://www.viladepiera.cat/actualitat/agenda/xerrada-contrabandistes-de-la-llibertat.html
CLASS:PUBLIC
END:VEVENT
END:VCALENDAR
