BEGIN:VCALENDAR
VERSION:2.0
CALSCALE:GREGORIAN
PRODID:-//Diputació de Barcelona//DibaCMS//EN
BEGIN:VEVENT
UID:22685
DTSTAMP:20260424T095114
DTSTART:20100116T213000
DTEND:20100116T000000
SUMMARY:Sopar Teatre
LOCATION:
METHOD:PUBLISH
X-WR-CALNAME:e-seu@ajpiera.cat
X-WR-TIMEZONE:Europe/Madrid
DESCRIPTION:Sopar Teatre
URI:https://www.viladepiera.cat/actualitat/agenda/sopar-teatre.html
CLASS:PUBLIC
END:VEVENT
END:VCALENDAR
