BEGIN:VCALENDAR
VERSION:2.0
CALSCALE:GREGORIAN
PRODID:-//Diputació de Barcelona//DibaCMS//EN
BEGIN:VEVENT
UID:22686
DTSTAMP:20260424T085053
DTSTART:20100117T111500
DTEND:20100117T000000
SUMMARY:Festa de Sant Antoni
LOCATION:
METHOD:PUBLISH
X-WR-CALNAME:e-seu@ajpiera.cat
X-WR-TIMEZONE:Europe/Madrid
DESCRIPTION:Festa de Sant Antoni
URI:https://www.viladepiera.cat/actualitat/agenda/festa-de-sant-antoni.html
CLASS:PUBLIC
END:VEVENT
END:VCALENDAR
