BEGIN:VCALENDAR
VERSION:2.0
CALSCALE:GREGORIAN
PRODID:-//Diputació de Barcelona//DibaCMS//EN
BEGIN:VEVENT
UID:22690
DTSTAMP:20260424T091752
DTSTART:20100120T190000
DTEND:20100120T000000
SUMMARY:Economia domèstica
LOCATION:
METHOD:PUBLISH
X-WR-CALNAME:e-seu@ajpiera.cat
X-WR-TIMEZONE:Europe/Madrid
DESCRIPTION:Economia domèstica
URI:https://www.viladepiera.cat/actualitat/agenda/economia-domestica.html
CLASS:PUBLIC
END:VEVENT
END:VCALENDAR
