BEGIN:VCALENDAR
VERSION:2.0
CALSCALE:GREGORIAN
PRODID:-//Diputació de Barcelona//DibaCMS//EN
BEGIN:VEVENT
UID:22694
DTSTAMP:20260424T080441
DTSTART:20100122T203000
DTEND:20100122T000000
SUMMARY:Reunió informativa Carnaval
LOCATION:
METHOD:PUBLISH
X-WR-CALNAME:e-seu@ajpiera.cat
X-WR-TIMEZONE:Europe/Madrid
DESCRIPTION:Reunió informativa Carnaval
URI:https://www.viladepiera.cat/actualitat/agenda/reunio-informativa-carnaval.html
CLASS:PUBLIC
END:VEVENT
END:VCALENDAR
