BEGIN:VCALENDAR
VERSION:2.0
CALSCALE:GREGORIAN
PRODID:-//Diputació de Barcelona//DibaCMS//EN
BEGIN:VEVENT
UID:22707
DTSTAMP:20260424T080410
DTSTART:20100130T220000
DTEND:20100130T233000
SUMMARY:Excursió: Caminant amb els estels
LOCATION:
METHOD:PUBLISH
X-WR-CALNAME:e-seu@ajpiera.cat
X-WR-TIMEZONE:Europe/Madrid
DESCRIPTION:Excursió: Caminant amb els estels
URI:https://www.viladepiera.cat/actualitat/agenda/excursio-caminant-amb-els-estels.html
CLASS:PUBLIC
END:VEVENT
END:VCALENDAR
