BEGIN:VCALENDAR
VERSION:2.0
CALSCALE:GREGORIAN
PRODID:-//Diputació de Barcelona//DibaCMS//EN
BEGIN:VEVENT
UID:22720
DTSTAMP:20260424T065704
DTSTART:20100212T173000
DTEND:20100212T000000
SUMMARY:Rua de les llars d'infants i escoles
LOCATION:
METHOD:PUBLISH
X-WR-CALNAME:e-seu@ajpiera.cat
X-WR-TIMEZONE:Europe/Madrid
DESCRIPTION:Rua de les llars d'infants i escoles
URI:https://www.viladepiera.cat/actualitat/agenda/rua-de-les-llars-dinfants-i-escoles.html
CLASS:PUBLIC
END:VEVENT
END:VCALENDAR
