BEGIN:VCALENDAR
VERSION:2.0
CALSCALE:GREGORIAN
PRODID:-//Diputació de Barcelona//DibaCMS//EN
BEGIN:VEVENT
UID:22728
DTSTAMP:20260424T090258
DTSTART:20100217T090000
DTEND:20100217T140000
SUMMARY:Trobada de Cooperació i Networking
LOCATION:
METHOD:PUBLISH
X-WR-CALNAME:e-seu@ajpiera.cat
X-WR-TIMEZONE:Europe/Madrid
DESCRIPTION:Trobada de Cooperació i Networking
URI:https://www.viladepiera.cat/actualitat/agenda/trobada-de-cooperacio-i-networking.html
CLASS:PUBLIC
END:VEVENT
END:VCALENDAR
