BEGIN:VCALENDAR
VERSION:2.0
CALSCALE:GREGORIAN
PRODID:-//Diputació de Barcelona//DibaCMS//EN
BEGIN:VEVENT
UID:22732
DTSTAMP:20260424T160333
DTSTART:20100224T190000
DTEND:20100224T000000
SUMMARY:Millennium
LOCATION:
METHOD:PUBLISH
X-WR-CALNAME:e-seu@ajpiera.cat
X-WR-TIMEZONE:Europe/Madrid
DESCRIPTION:Millennium
URI:https://www.viladepiera.cat/actualitat/agenda/millennium.html
CLASS:PUBLIC
END:VEVENT
END:VCALENDAR
