BEGIN:VCALENDAR
VERSION:2.0
CALSCALE:GREGORIAN
PRODID:-//Diputació de Barcelona//DibaCMS//EN
BEGIN:VEVENT
UID:22733
DTSTAMP:20260424T092315
DTSTART:20100224T210000
DTEND:20100224T000000
SUMMARY:Ple 24.2.10
LOCATION:
METHOD:PUBLISH
X-WR-CALNAME:e-seu@ajpiera.cat
X-WR-TIMEZONE:Europe/Madrid
DESCRIPTION:Ple 24.2.10
URI:https://www.viladepiera.cat/actualitat/agenda/ple-24210.html
CLASS:PUBLIC
END:VEVENT
END:VCALENDAR
