BEGIN:VCALENDAR
VERSION:2.0
CALSCALE:GREGORIAN
PRODID:-//Diputació de Barcelona//DibaCMS//EN
BEGIN:VEVENT
UID:22735
DTSTAMP:20260424T143936
DTSTART:20100225T180000
DTEND:20100225T000000
SUMMARY:Hora del conte
LOCATION:
METHOD:PUBLISH
X-WR-CALNAME:e-seu@ajpiera.cat
X-WR-TIMEZONE:Europe/Madrid
DESCRIPTION:Hora del conte
URI:https://www.viladepiera.cat/actualitat/agenda/22735-hora-del-conte.html
CLASS:PUBLIC
END:VEVENT
END:VCALENDAR
