BEGIN:VCALENDAR
VERSION:2.0
CALSCALE:GREGORIAN
PRODID:-//Diputació de Barcelona//DibaCMS//EN
BEGIN:VEVENT
UID:22737
DTSTAMP:20260424T092006
DTSTART:20100226T190000
DTEND:20100226T000000
SUMMARY:El significat de les imatges de l'Antic Egipte
LOCATION:
METHOD:PUBLISH
X-WR-CALNAME:e-seu@ajpiera.cat
X-WR-TIMEZONE:Europe/Madrid
DESCRIPTION:El significat de les imatges de l'Antic Egipte
URI:https://www.viladepiera.cat/actualitat/agenda/el-significat-de-les-imatges-de-lantic-egipte.html
CLASS:PUBLIC
END:VEVENT
END:VCALENDAR
