BEGIN:VCALENDAR
VERSION:2.0
CALSCALE:GREGORIAN
PRODID:-//Diputació de Barcelona//DibaCMS//EN
BEGIN:VEVENT
UID:22739
DTSTAMP:20260424T080653
DTSTART:20100227T100000
DTEND:20100227T150000
SUMMARY:Taller de pedra seca
LOCATION:
METHOD:PUBLISH
X-WR-CALNAME:e-seu@ajpiera.cat
X-WR-TIMEZONE:Europe/Madrid
DESCRIPTION:Taller de pedra seca
URI:https://www.viladepiera.cat/actualitat/agenda/taller-de-pedra-seca.html
CLASS:PUBLIC
END:VEVENT
END:VCALENDAR
