BEGIN:VCALENDAR
VERSION:2.0
CALSCALE:GREGORIAN
PRODID:-//Diputació de Barcelona//DibaCMS//EN
BEGIN:VEVENT
UID:22742
DTSTAMP:20260424T024045
DTSTART:20100304T190000
DTEND:20100304T000000
SUMMARY:Conferència: Veus de dones
LOCATION:
METHOD:PUBLISH
X-WR-CALNAME:e-seu@ajpiera.cat
X-WR-TIMEZONE:Europe/Madrid
DESCRIPTION:Conferència: Veus de dones
URI:https://www.viladepiera.cat/actualitat/agenda/conferencia-veus-de-dones.html
CLASS:PUBLIC
END:VEVENT
END:VCALENDAR
