BEGIN:VCALENDAR
VERSION:2.0
CALSCALE:GREGORIAN
PRODID:-//Diputació de Barcelona//DibaCMS//EN
BEGIN:VEVENT
UID:22743
DTSTAMP:20260424T012716
DTSTART:20100304T080000
DTEND:20100304T170000
SUMMARY:Tall d'aigua: La Plana
LOCATION:
METHOD:PUBLISH
X-WR-CALNAME:e-seu@ajpiera.cat
X-WR-TIMEZONE:Europe/Madrid
DESCRIPTION:Tall d'aigua: La Plana
URI:https://www.viladepiera.cat/actualitat/agenda/tall-daigua-la-plana.html
CLASS:PUBLIC
END:VEVENT
END:VCALENDAR
