BEGIN:VCALENDAR
VERSION:2.0
CALSCALE:GREGORIAN
PRODID:-//Diputació de Barcelona//DibaCMS//EN
BEGIN:VEVENT
UID:22745
DTSTAMP:20260424T103850
DTSTART:20100305T173000
DTEND:20100305T000000
SUMMARY:Xerrada al Casal
LOCATION:
METHOD:PUBLISH
X-WR-CALNAME:e-seu@ajpiera.cat
X-WR-TIMEZONE:Europe/Madrid
DESCRIPTION:Xerrada al Casal
URI:https://www.viladepiera.cat/actualitat/agenda/22745-xerrada-al-casal.html
CLASS:PUBLIC
END:VEVENT
END:VCALENDAR
