BEGIN:VCALENDAR
VERSION:2.0
CALSCALE:GREGORIAN
PRODID:-//Diputació de Barcelona//DibaCMS//EN
BEGIN:VEVENT
UID:22746
DTSTAMP:20260424T090441
DTSTART:20100306T103000
DTEND:20100306T000000
SUMMARY:Art d'avui
LOCATION:
METHOD:PUBLISH
X-WR-CALNAME:e-seu@ajpiera.cat
X-WR-TIMEZONE:Europe/Madrid
DESCRIPTION:Art d'avui
URI:https://www.viladepiera.cat/actualitat/agenda/art-davui.html
CLASS:PUBLIC
END:VEVENT
END:VCALENDAR
