BEGIN:VCALENDAR
VERSION:2.0
CALSCALE:GREGORIAN
PRODID:-//Diputació de Barcelona//DibaCMS//EN
BEGIN:VEVENT
UID:22747
DTSTAMP:20260424T151452
DTSTART:20100306T000000
DTEND:20100306T000000
SUMMARY:Fira d'Estocs 2010
LOCATION:
METHOD:PUBLISH
X-WR-CALNAME:e-seu@ajpiera.cat
X-WR-TIMEZONE:Europe/Madrid
DESCRIPTION:Fira d'Estocs 2010
URI:https://www.viladepiera.cat/actualitat/agenda/fira-destocs-2010.html
CLASS:PUBLIC
END:VEVENT
END:VCALENDAR
