BEGIN:VCALENDAR
VERSION:2.0
CALSCALE:GREGORIAN
PRODID:-//Diputació de Barcelona//DibaCMS//EN
BEGIN:VEVENT
UID:22754
DTSTAMP:20260424T070829
DTSTART:20100312T190000
DTEND:20100312T000000
SUMMARY:Premis de la Travessa dels Òscar
LOCATION:
METHOD:PUBLISH
X-WR-CALNAME:e-seu@ajpiera.cat
X-WR-TIMEZONE:Europe/Madrid
DESCRIPTION:Premis de la Travessa dels Òscar
URI:https://www.viladepiera.cat/actualitat/agenda/premis-de-la-travessa-dels-oscar.html
CLASS:PUBLIC
END:VEVENT
END:VCALENDAR
