BEGIN:VCALENDAR
VERSION:2.0
CALSCALE:GREGORIAN
PRODID:-//Diputació de Barcelona//DibaCMS//EN
BEGIN:VEVENT
UID:22756
DTSTAMP:20260424T123158
DTSTART:20100312T210000
DTEND:20100312T000000
SUMMARY:Sopar de les dones de l'Anoia
LOCATION:
METHOD:PUBLISH
X-WR-CALNAME:e-seu@ajpiera.cat
X-WR-TIMEZONE:Europe/Madrid
DESCRIPTION:Sopar de les dones de l'Anoia
URI:https://www.viladepiera.cat/actualitat/agenda/sopar-de-les-dones-de-lanoia.html
CLASS:PUBLIC
END:VEVENT
END:VCALENDAR
