BEGIN:VCALENDAR
VERSION:2.0
CALSCALE:GREGORIAN
PRODID:-//Diputació de Barcelona//DibaCMS//EN
BEGIN:VEVENT
UID:22757
DTSTAMP:20260424T091823
DTSTART:20100312T080000
DTEND:20100312T170000
SUMMARY:Tall d'aigua: La Venta-Can Mussarro
LOCATION:
METHOD:PUBLISH
X-WR-CALNAME:e-seu@ajpiera.cat
X-WR-TIMEZONE:Europe/Madrid
DESCRIPTION:Tall d'aigua: La Venta-Can Mussarro
URI:https://www.viladepiera.cat/actualitat/agenda/tall-daigua-la-venta-can-mussarro.html
CLASS:PUBLIC
END:VEVENT
END:VCALENDAR
