BEGIN:VCALENDAR
VERSION:2.0
CALSCALE:GREGORIAN
PRODID:-//Diputació de Barcelona//DibaCMS//EN
BEGIN:VEVENT
UID:22759
DTSTAMP:20260424T044118
DTSTART:20100313T103000
DTEND:20100313T000000
SUMMARY:Xerrada-taller
LOCATION:
METHOD:PUBLISH
X-WR-CALNAME:e-seu@ajpiera.cat
X-WR-TIMEZONE:Europe/Madrid
DESCRIPTION:Xerrada-taller
URI:https://www.viladepiera.cat/actualitat/agenda/xerrada-taller.html
CLASS:PUBLIC
END:VEVENT
END:VCALENDAR
