BEGIN:VCALENDAR
VERSION:2.0
CALSCALE:GREGORIAN
PRODID:-//Diputació de Barcelona//DibaCMS//EN
BEGIN:VEVENT
UID:22760
DTSTAMP:20260424T144007
DTSTART:20100313T160000
DTEND:20100313T000000
SUMMARY:Jocs Escolars de l'Anoia
LOCATION:
METHOD:PUBLISH
X-WR-CALNAME:e-seu@ajpiera.cat
X-WR-TIMEZONE:Europe/Madrid
DESCRIPTION:Jocs Escolars de l'Anoia
URI:https://www.viladepiera.cat/actualitat/agenda/jocs-escolars-de-lanoia.html
CLASS:PUBLIC
END:VEVENT
END:VCALENDAR
