BEGIN:VCALENDAR
VERSION:2.0
CALSCALE:GREGORIAN
PRODID:-//Diputació de Barcelona//DibaCMS//EN
BEGIN:VEVENT
UID:22762
DTSTAMP:20260424T104200
DTSTART:20100314T000000
DTEND:20100314T000000
SUMMARY:Dia d'Andalusia
LOCATION:
METHOD:PUBLISH
X-WR-CALNAME:e-seu@ajpiera.cat
X-WR-TIMEZONE:Europe/Madrid
DESCRIPTION:Dia d'Andalusia
URI:https://www.viladepiera.cat/actualitat/agenda/22762-dia-dandalusia.html
CLASS:PUBLIC
END:VEVENT
END:VCALENDAR
