BEGIN:VCALENDAR
VERSION:2.0
CALSCALE:GREGORIAN
PRODID:-//Diputació de Barcelona//DibaCMS//EN
BEGIN:VEVENT
UID:22768
DTSTAMP:20260424T130913
DTSTART:20100319T193000
DTEND:20100319T000000
SUMMARY:Lectura poètica
LOCATION:
METHOD:PUBLISH
X-WR-CALNAME:e-seu@ajpiera.cat
X-WR-TIMEZONE:Europe/Madrid
DESCRIPTION:Lectura poètica
URI:https://www.viladepiera.cat/actualitat/agenda/22768-lectura-poetica.html
CLASS:PUBLIC
END:VEVENT
END:VCALENDAR
