BEGIN:VCALENDAR
VERSION:2.0
CALSCALE:GREGORIAN
PRODID:-//Diputació de Barcelona//DibaCMS//EN
BEGIN:VEVENT
UID:22769
DTSTAMP:20260424T022808
DTSTART:20100319T193000
DTEND:20100319T000000
SUMMARY:Paraula i so
LOCATION:
METHOD:PUBLISH
X-WR-CALNAME:e-seu@ajpiera.cat
X-WR-TIMEZONE:Europe/Madrid
DESCRIPTION:Paraula i so
URI:https://www.viladepiera.cat/actualitat/agenda/paraula-i-so.html
CLASS:PUBLIC
END:VEVENT
END:VCALENDAR
