BEGIN:VCALENDAR
VERSION:2.0
CALSCALE:GREGORIAN
PRODID:-//Diputació de Barcelona//DibaCMS//EN
BEGIN:VEVENT
UID:22770
DTSTAMP:20260424T123346
DTSTART:20100319T160000
DTEND:20100319T000000
SUMMARY:Inauguració aparcament
LOCATION:
METHOD:PUBLISH
X-WR-CALNAME:e-seu@ajpiera.cat
X-WR-TIMEZONE:Europe/Madrid
DESCRIPTION:Inauguració aparcament
URI:https://www.viladepiera.cat/actualitat/agenda/inauguracio-aparcament.html
CLASS:PUBLIC
END:VEVENT
END:VCALENDAR
