BEGIN:VCALENDAR
VERSION:2.0
CALSCALE:GREGORIAN
PRODID:-//Diputació de Barcelona//DibaCMS//EN
BEGIN:VEVENT
UID:22773
DTSTAMP:20260424T065957
DTSTART:20100322T160000
DTEND:20100322T000000
SUMMARY:Inauguració variant
LOCATION:
METHOD:PUBLISH
X-WR-CALNAME:e-seu@ajpiera.cat
X-WR-TIMEZONE:Europe/Madrid
DESCRIPTION:Inauguració variant
URI:https://www.viladepiera.cat/actualitat/agenda/inauguracio-variant.html
CLASS:PUBLIC
END:VEVENT
END:VCALENDAR
