BEGIN:VCALENDAR
VERSION:2.0
CALSCALE:GREGORIAN
PRODID:-//Diputació de Barcelona//DibaCMS//EN
BEGIN:VEVENT
UID:22774
DTSTAMP:20260424T155851
DTSTART:20100323T113000
DTEND:20100323T130000
SUMMARY:Oficina Mòbil Informació Consumidor
LOCATION:
METHOD:PUBLISH
X-WR-CALNAME:e-seu@ajpiera.cat
X-WR-TIMEZONE:Europe/Madrid
DESCRIPTION:Oficina Mòbil Informació Consumidor
URI:https://www.viladepiera.cat/actualitat/agenda/oficina-mobil-informacio-consumidor.html
CLASS:PUBLIC
END:VEVENT
END:VCALENDAR
