BEGIN:VCALENDAR
VERSION:2.0
CALSCALE:GREGORIAN
PRODID:-//Diputació de Barcelona//DibaCMS//EN
BEGIN:VEVENT
UID:22777
DTSTAMP:20260424T001821
DTSTART:20100326T193000
DTEND:20100326T000000
SUMMARY:Presentació Llei Barris
LOCATION:
METHOD:PUBLISH
X-WR-CALNAME:e-seu@ajpiera.cat
X-WR-TIMEZONE:Europe/Madrid
DESCRIPTION:Presentació Llei Barris
URI:https://www.viladepiera.cat/actualitat/agenda/presentacio-llei-barris.html
CLASS:PUBLIC
END:VEVENT
END:VCALENDAR
