BEGIN:VCALENDAR
VERSION:2.0
CALSCALE:GREGORIAN
PRODID:-//Diputació de Barcelona//DibaCMS//EN
BEGIN:VEVENT
UID:22783
DTSTAMP:20260424T023839
DTSTART:20100328T100000
DTEND:20100328T130000
SUMMARY:Excursió a ca n'Aguilera
LOCATION:
METHOD:PUBLISH
X-WR-CALNAME:e-seu@ajpiera.cat
X-WR-TIMEZONE:Europe/Madrid
DESCRIPTION:Excursió a ca n'Aguilera
URI:https://www.viladepiera.cat/actualitat/agenda/excursio-a-ca-naguilera.html
CLASS:PUBLIC
END:VEVENT
END:VCALENDAR
