BEGIN:VCALENDAR
VERSION:2.0
CALSCALE:GREGORIAN
PRODID:-//Diputació de Barcelona//DibaCMS//EN
BEGIN:VEVENT
UID:22787
DTSTAMP:20260424T033901
DTSTART:20100408T193000
DTEND:20100408T000000
SUMMARY:Xerrada: Els abismes de la literatura
LOCATION:
METHOD:PUBLISH
X-WR-CALNAME:e-seu@ajpiera.cat
X-WR-TIMEZONE:Europe/Madrid
DESCRIPTION:Xerrada: Els abismes de la literatura
URI:https://www.viladepiera.cat/actualitat/agenda/xerrada-els-abismes-de-la-literatura.html
CLASS:PUBLIC
END:VEVENT
END:VCALENDAR
