BEGIN:VCALENDAR
VERSION:2.0
CALSCALE:GREGORIAN
PRODID:-//Diputació de Barcelona//DibaCMS//EN
BEGIN:VEVENT
UID:22792
DTSTAMP:20260424T071151
DTSTART:20100413T193000
DTEND:20100413T000000
SUMMARY:Conferència: Els testaments i les herències
LOCATION:
METHOD:PUBLISH
X-WR-CALNAME:e-seu@ajpiera.cat
X-WR-TIMEZONE:Europe/Madrid
DESCRIPTION:Conferència: Els testaments i les herències
URI:https://www.viladepiera.cat/actualitat/agenda/conferencia-els-testaments-i-les-herencies.html
CLASS:PUBLIC
END:VEVENT
END:VCALENDAR
