BEGIN:VCALENDAR
VERSION:2.0
CALSCALE:GREGORIAN
PRODID:-//Diputació de Barcelona//DibaCMS//EN
BEGIN:VEVENT
UID:22796
DTSTAMP:20260424T023857
DTSTART:20100416T193000
DTEND:20100416T000000
SUMMARY:Inauguració exposició Jocs d'escacs
LOCATION:
METHOD:PUBLISH
X-WR-CALNAME:e-seu@ajpiera.cat
X-WR-TIMEZONE:Europe/Madrid
DESCRIPTION:Inauguració exposició Jocs d'escacs
URI:https://www.viladepiera.cat/actualitat/agenda/inauguracio-exposicio-jocs-descacs.html
CLASS:PUBLIC
END:VEVENT
END:VCALENDAR
