BEGIN:VCALENDAR
VERSION:2.0
CALSCALE:GREGORIAN
PRODID:-//Diputació de Barcelona//DibaCMS//EN
BEGIN:VEVENT
UID:22797
DTSTAMP:20260424T012524
DTSTART:20100416T220000
DTEND:20100416T000000
SUMMARY:Teatre al Foment
LOCATION:
METHOD:PUBLISH
X-WR-CALNAME:e-seu@ajpiera.cat
X-WR-TIMEZONE:Europe/Madrid
DESCRIPTION:Teatre al Foment
URI:https://www.viladepiera.cat/actualitat/agenda/teatre-al-foment.html
CLASS:PUBLIC
END:VEVENT
END:VCALENDAR
