BEGIN:VCALENDAR
VERSION:2.0
CALSCALE:GREGORIAN
PRODID:-//Diputació de Barcelona//DibaCMS//EN
BEGIN:VEVENT
UID:22799
DTSTAMP:20260424T104007
DTSTART:20100417T000000
DTEND:20100417T000000
SUMMARY:Acapte de Sang
LOCATION:
METHOD:PUBLISH
X-WR-CALNAME:e-seu@ajpiera.cat
X-WR-TIMEZONE:Europe/Madrid
DESCRIPTION:Acapte de Sang
URI:https://www.viladepiera.cat/actualitat/agenda/22799-acapte-de-sang.html
CLASS:PUBLIC
END:VEVENT
END:VCALENDAR
