BEGIN:VCALENDAR
VERSION:2.0
CALSCALE:GREGORIAN
PRODID:-//Diputació de Barcelona//DibaCMS//EN
BEGIN:VEVENT
UID:22800
DTSTAMP:20260424T151813
DTSTART:20100417T103000
DTEND:20100417T123000
SUMMARY:Curs de llenguatge de signes
LOCATION:
METHOD:PUBLISH
X-WR-CALNAME:e-seu@ajpiera.cat
X-WR-TIMEZONE:Europe/Madrid
DESCRIPTION:Curs de llenguatge de signes
URI:https://www.viladepiera.cat/actualitat/agenda/curs-de-llenguatge-de-signes.html
CLASS:PUBLIC
END:VEVENT
END:VCALENDAR
