BEGIN:VCALENDAR
VERSION:2.0
CALSCALE:GREGORIAN
PRODID:-//Diputació de Barcelona//DibaCMS//EN
BEGIN:VEVENT
UID:22805
DTSTAMP:20260423T231549
DTSTART:20100418T180000
DTEND:20100418T000000
SUMMARY:Cinèfils: Toma el dinero y corre
LOCATION:
METHOD:PUBLISH
X-WR-CALNAME:e-seu@ajpiera.cat
X-WR-TIMEZONE:Europe/Madrid
DESCRIPTION:Cinèfils: Toma el dinero y corre
URI:https://www.viladepiera.cat/actualitat/agenda/cinefils-toma-el-dinero-y-corre.html
CLASS:PUBLIC
END:VEVENT
END:VCALENDAR
