BEGIN:VCALENDAR
VERSION:2.0
CALSCALE:GREGORIAN
PRODID:-//Diputació de Barcelona//DibaCMS//EN
BEGIN:VEVENT
UID:22811
DTSTAMP:20260424T021455
DTSTART:20100424T000000
DTEND:20100425T000000
SUMMARY:XXI Fira del Sant Crist
LOCATION:
METHOD:PUBLISH
X-WR-CALNAME:e-seu@ajpiera.cat
X-WR-TIMEZONE:Europe/Madrid
DESCRIPTION:XXI Fira del Sant Crist
URI:https://www.viladepiera.cat/actualitat/agenda/xxi-fira-del-sant-crist.html
CLASS:PUBLIC
END:VEVENT
END:VCALENDAR
