BEGIN:VCALENDAR
VERSION:2.0
CALSCALE:GREGORIAN
PRODID:-//Diputació de Barcelona//DibaCMS//EN
BEGIN:VEVENT
UID:22818
DTSTAMP:20260424T000405
DTSTART:20100428T000000
DTEND:20100428T000000
SUMMARY:Diada de Sant Crist
LOCATION:
METHOD:PUBLISH
X-WR-CALNAME:e-seu@ajpiera.cat
X-WR-TIMEZONE:Europe/Madrid
DESCRIPTION:Diada de Sant Crist
URI:https://www.viladepiera.cat/actualitat/agenda/diada-de-sant-crist.html
CLASS:PUBLIC
END:VEVENT
END:VCALENDAR
