BEGIN:VCALENDAR
VERSION:2.0
CALSCALE:GREGORIAN
PRODID:-//Diputació de Barcelona//DibaCMS//EN
BEGIN:VEVENT
UID:22821
DTSTAMP:20260424T021106
DTSTART:20100430T190000
DTEND:20100430T000000
SUMMARY:Xerrada: Parlem de gossos?
LOCATION:
METHOD:PUBLISH
X-WR-CALNAME:e-seu@ajpiera.cat
X-WR-TIMEZONE:Europe/Madrid
DESCRIPTION:Xerrada: Parlem de gossos?
URI:https://www.viladepiera.cat/actualitat/agenda/xerrada-parlem-de-gossos.html
CLASS:PUBLIC
END:VEVENT
END:VCALENDAR
