BEGIN:VCALENDAR
VERSION:2.0
CALSCALE:GREGORIAN
PRODID:-//Diputació de Barcelona//DibaCMS//EN
BEGIN:VEVENT
UID:22822
DTSTAMP:20260424T021536
DTSTART:20100430T200000
DTEND:20100430T000000
SUMMARY:25 anys de Ràdio Piera
LOCATION:
METHOD:PUBLISH
X-WR-CALNAME:e-seu@ajpiera.cat
X-WR-TIMEZONE:Europe/Madrid
DESCRIPTION:25 anys de Ràdio Piera
URI:https://www.viladepiera.cat/actualitat/agenda/25-anys-de-radio-piera.html
CLASS:PUBLIC
END:VEVENT
END:VCALENDAR
