BEGIN:VCALENDAR
VERSION:2.0
CALSCALE:GREGORIAN
PRODID:-//Diputació de Barcelona//DibaCMS//EN
BEGIN:VEVENT
UID:22823
DTSTAMP:20260424T044542
DTSTART:20100501T090000
DTEND:20100501T000000
SUMMARY:XXXIV Aplec de Mas Bonans
LOCATION:
METHOD:PUBLISH
X-WR-CALNAME:e-seu@ajpiera.cat
X-WR-TIMEZONE:Europe/Madrid
DESCRIPTION:XXXIV Aplec de Mas Bonans
URI:https://www.viladepiera.cat/actualitat/agenda/xxxiv-aplec-de-mas-bonans.html
CLASS:PUBLIC
END:VEVENT
END:VCALENDAR
