BEGIN:VCALENDAR
VERSION:2.0
CALSCALE:GREGORIAN
PRODID:-//Diputació de Barcelona//DibaCMS//EN
BEGIN:VEVENT
UID:22825
DTSTAMP:20260424T011335
DTSTART:20100502T190000
DTEND:20100502T000000
SUMMARY:Concert 20è aniversari Corals Tríola i Xalest
LOCATION:
METHOD:PUBLISH
X-WR-CALNAME:e-seu@ajpiera.cat
X-WR-TIMEZONE:Europe/Madrid
DESCRIPTION:Concert 20è aniversari Corals Tríola i Xalest
URI:https://www.viladepiera.cat/actualitat/agenda/concert-20e-aniversari-corals-triola-i-xalest.html
CLASS:PUBLIC
END:VEVENT
END:VCALENDAR
