BEGIN:VCALENDAR
VERSION:2.0
CALSCALE:GREGORIAN
PRODID:-//Diputació de Barcelona//DibaCMS//EN
BEGIN:VEVENT
UID:22828
DTSTAMP:20260424T020646
DTSTART:20100505T190000
DTEND:20100505T000000
SUMMARY:Dimecres de cine
LOCATION:
METHOD:PUBLISH
X-WR-CALNAME:e-seu@ajpiera.cat
X-WR-TIMEZONE:Europe/Madrid
DESCRIPTION:Dimecres de cine
URI:https://www.viladepiera.cat/actualitat/agenda/22828-dimecres-de-cine.html
CLASS:PUBLIC
END:VEVENT
END:VCALENDAR
