BEGIN:VCALENDAR
VERSION:2.0
CALSCALE:GREGORIAN
PRODID:-//Diputació de Barcelona//DibaCMS//EN
BEGIN:VEVENT
UID:22832
DTSTAMP:20260424T030619
DTSTART:20100509T190000
DTEND:20100509T000000
SUMMARY:Ball de tarda
LOCATION:
METHOD:PUBLISH
X-WR-CALNAME:e-seu@ajpiera.cat
X-WR-TIMEZONE:Europe/Madrid
DESCRIPTION:Ball de tarda
URI:https://www.viladepiera.cat/actualitat/agenda/22832-ball-de-tarda.html
CLASS:PUBLIC
END:VEVENT
END:VCALENDAR
