BEGIN:VCALENDAR
VERSION:2.0
CALSCALE:GREGORIAN
PRODID:-//Diputació de Barcelona//DibaCMS//EN
BEGIN:VEVENT
UID:22834
DTSTAMP:20260424T021554
DTSTART:20100509T000000
DTEND:20100509T000000
SUMMARY:Fira d'Artesans
LOCATION:
METHOD:PUBLISH
X-WR-CALNAME:e-seu@ajpiera.cat
X-WR-TIMEZONE:Europe/Madrid
DESCRIPTION:Fira d'Artesans
URI:https://www.viladepiera.cat/actualitat/agenda/22834-fira-dartesans.html
CLASS:PUBLIC
END:VEVENT
END:VCALENDAR
