BEGIN:VCALENDAR
VERSION:2.0
CALSCALE:GREGORIAN
PRODID:-//Diputació de Barcelona//DibaCMS//EN
BEGIN:VEVENT
UID:22835
DTSTAMP:20260424T020946
DTSTART:20100509T180000
DTEND:20100509T000000
SUMMARY:Cinèfils: La terminal
LOCATION:
METHOD:PUBLISH
X-WR-CALNAME:e-seu@ajpiera.cat
X-WR-TIMEZONE:Europe/Madrid
DESCRIPTION:Cinèfils: La terminal
URI:https://www.viladepiera.cat/actualitat/agenda/cinefils-la-terminal.html
CLASS:PUBLIC
END:VEVENT
END:VCALENDAR
