BEGIN:VCALENDAR
VERSION:2.0
CALSCALE:GREGORIAN
PRODID:-//Diputació de Barcelona//DibaCMS//EN
BEGIN:VEVENT
UID:22841
DTSTAMP:20260424T003147
DTSTART:20100514T220000
DTEND:20100514T000000
SUMMARY:Poetada amb Pau Riba
LOCATION:
METHOD:PUBLISH
X-WR-CALNAME:e-seu@ajpiera.cat
X-WR-TIMEZONE:Europe/Madrid
DESCRIPTION:Poetada amb Pau Riba
URI:https://www.viladepiera.cat/actualitat/agenda/poetada-amb-pau-riba.html
CLASS:PUBLIC
END:VEVENT
END:VCALENDAR
