BEGIN:VCALENDAR
VERSION:2.0
CALSCALE:GREGORIAN
PRODID:-//Diputació de Barcelona//DibaCMS//EN
BEGIN:VEVENT
UID:22844
DTSTAMP:20260423T232345
DTSTART:20100516T080000
DTEND:20100516T000000
SUMMARY:Caminada familiar La Plana
LOCATION:
METHOD:PUBLISH
X-WR-CALNAME:e-seu@ajpiera.cat
X-WR-TIMEZONE:Europe/Madrid
DESCRIPTION:Caminada familiar La Plana
URI:https://www.viladepiera.cat/actualitat/agenda/caminada-familiar-la-plana.html
CLASS:PUBLIC
END:VEVENT
END:VCALENDAR
